BEGIN:VCALENDAR
VERSION:2.0
PRODID:-//Tukios.com/
BEGIN:VEVENT
UID:49fcd6e5-35f7-44a1-8b8f-7c5f93aade00@www.cooneyfuneralhome.com
DTSTAMP:20260420T225921Z
DTSTART:20260423T160000Z
DTEND:20260423T170000Z
SUMMARY:Mass
DESCRIPTION:
URL:https://www.cooneyfuneralhome.com/obituaries/valeda-carbonneau
LOCATION: 4021 West Belmont Avenue  Chicago IL 60641
GEO:41.9384756;-87.7286344
END:VEVENT
END:VCALENDAR