BEGIN:VCALENDAR
VERSION:2.0
PRODID:-//Tukios.com/
BEGIN:VEVENT
UID:4fe3f62a-cf3c-4929-9187-074c76c745ad@www.cooneyfuneralhome.com
DTSTAMP:20260420T230141Z
DTSTART:20260423T150000Z
DTEND:20260423T160000Z
SUMMARY:Visitation
DESCRIPTION:
URL:https://www.cooneyfuneralhome.com/obituaries/valeda-carbonneau
LOCATION: 4021 West Belmont Avenue  Chicago IL 60641
GEO:41.9384756;-87.7286344
END:VEVENT
END:VCALENDAR