BEGIN:VCALENDAR
VERSION:2.0
PRODID:-//Tukios.com/
BEGIN:VEVENT
UID:8c5dfc7a-8b61-452c-b8b9-8591808bd211@www.cooneyfuneralhome.com
DTSTAMP:20260422T014149Z
DTSTART:20260427T150000Z
DTEND:20260427T160000Z
SUMMARY:Mass
DESCRIPTION:
URL:https://www.cooneyfuneralhome.com/obituaries/maureen-cnota
LOCATION:St. Hubert Church 729 Grand Canyon  Hoffman Estates IL 60169
GEO:42.0399597;-88.0869566
END:VEVENT
END:VCALENDAR