BEGIN:VCALENDAR
VERSION:2.0
PRODID:-//Tukios.com/
BEGIN:VEVENT
UID:dfa6463a-a533-48dc-950b-f6520a3eb1cb@www.cooneyfuneralhome.com
DTSTAMP:20260422T014009Z
DTSTART:20260426T200000Z
DTEND:20260427T010000Z
SUMMARY:Visitation
DESCRIPTION:
URL:https://www.cooneyfuneralhome.com/obituaries/maureen-cnota
LOCATION: 625 Busse Hwy  Park Ridge IL 60068
GEO:42.0191287;-87.845076
END:VEVENT
END:VCALENDAR