BEGIN:VCALENDAR
VERSION:2.0
PRODID:-//Tukios.com/
BEGIN:VEVENT
UID:9e518ef0-6b3a-4680-8cc9-b30ae95b3054@www.cooneyfuneralhome.com
DTSTAMP:20260420T195646Z
DTSTART:20260508T000000Z
DTEND:20260508T010000Z
SUMMARY:Prayer Service
DESCRIPTION:
URL:https://www.cooneyfuneralhome.com/obituaries/jeanne-beck
LOCATION:Cooney Funeral Home 625 Busse Hwy  Park Ridge IL 60068
GEO:42.0191287;-87.845076
END:VEVENT
END:VCALENDAR