BEGIN:VCALENDAR
VERSION:2.0
PRODID:-//Tukios.com/
BEGIN:VEVENT
UID:39254f01-7aae-4c1f-ac89-5cc8b9293978@www.cooneyfuneralhome.com
DTSTAMP:20260420T200243Z
DTSTART:20260507T200000Z
DTEND:20260508T000000Z
SUMMARY:Celebration of Life
DESCRIPTION:
URL:https://www.cooneyfuneralhome.com/obituaries/jeanne-beck
LOCATION:Cooney Funeral Home 625 Busse Hwy  Park Ridge IL 60068
GEO:42.0191287;-87.845076
END:VEVENT
END:VCALENDAR